BEGIN:VCALENDAR
PRODID:-//climbIT//Tourenangebot//DE
VERSION:2.0
METHOD:PUBLISH
BEGIN:VEVENT
UID:tour-1117be63-b709-4099-a9a9-8213d03b35d5@touren.sac-praettigau.ch
DTSTAMP:20260421T085046
SEQUENCE:0
CLASS:PUBLIC
TRANSP:OPAQUE
DTSTART;VALUE=DATE:20210206
DTEND;VALUE=DATE:20210207
SUMMARY:Sektion Prättigau: Piz Belvair (2821 m)
DESCRIPTION:Nach deiner Anmeldung und bei jeder Statusänderung wird ein Kalendereintrag per E-Mail verschickt.\n\nAktuelle Informationen\nTourenlink: https://touren.sac-praettigau.ch/tours/view/1117be63-b709-4099-a9a9-8213d03b35d5\n\n\nDein Tourenangebot Team
END:VEVENT
END:VCALENDAR